BEGIN:VCALENDAR
VERSION:2.0
PRODID:-//SDE Asia Pacific - ECPv6.9.1//NONSGML v1.0//EN
CALSCALE:GREGORIAN
METHOD:PUBLISH
X-ORIGINAL-URL:https://www.sde-asiapacific.com
X-WR-CALDESC:Events for SDE Asia Pacific
REFRESH-INTERVAL;VALUE=DURATION:PT1H
X-Robots-Tag:noindex
X-PUBLISHED-TTL:PT1H
BEGIN:VTIMEZONE
TZID:UTC
BEGIN:STANDARD
TZOFFSETFROM:+0000
TZOFFSETTO:+0000
TZNAME:UTC
DTSTART:20250101T000000
END:STANDARD
TZID:Asia/Bangkok
BEGIN:STANDARD
TZOFFSETFROM:+0700
TZOFFSETTO:+0700
TZNAME:+07
DTSTART:20250101T000000
END:STANDARD
END:VTIMEZONE
BEGIN:VEVENT
DTSTART;VALUE=DATE:20250701
DTEND;VALUE=DATE:20250702
DTSTAMP:20260420T113954
CREATED:20220525T213148Z
LAST-MODIFIED:20240708T023451Z
UID:10000001-1751328000-1751414399@www.sde-asiapacific.com
SUMMARY:Reg 7154 Toyota Vigo Insurance
DESCRIPTION:Expires: 1st July 2025
URL:https://www.sde-asiapacific.com/insurance-renewals/reg-7154-insurance-expires-1st-july-2022/
CATEGORIES:Cars and Trucks
END:VEVENT
BEGIN:VEVENT
DTSTART;VALUE=DATE:20250704
DTEND;VALUE=DATE:20250705
DTSTAMP:20260420T113954
CREATED:20230703T070155Z
LAST-MODIFIED:20240708T051716Z
UID:10000048-1751587200-1751673599@www.sde-asiapacific.com
SUMMARY:Bangkok 19 SL05 Warehouse 2 Prawet Fire Insurance
DESCRIPTION:Expires: 4th July 2025\nWaiting for policy
URL:https://www.sde-asiapacific.com/insurance-renewals/bangkok-19-sl05-warehouse-prawet-2-fire/
CATEGORIES:Buildings
END:VEVENT
BEGIN:VEVENT
DTSTART;VALUE=DATE:20250704
DTEND;VALUE=DATE:20250705
DTSTAMP:20260420T113954
CREATED:20230717T085746Z
LAST-MODIFIED:20240708T051536Z
UID:10000065-1751587200-1751673599@www.sde-asiapacific.com
SUMMARY:Bangkok - Warehouse 2 19 SL05 Burglary Insurance
DESCRIPTION:Expires: 4th July 2025 \nWaiting for policy
URL:https://www.sde-asiapacific.com/insurance-renewals/bangkok-warehouse-2-19-sl05-burglary-insurance/
CATEGORIES:Buildings
END:VEVENT
BEGIN:VEVENT
DTSTART;VALUE=DATE:20250708
DTEND;VALUE=DATE:20250709
DTSTAMP:20260420T113954
CREATED:20220525T220731Z
LAST-MODIFIED:20240726T040253Z
UID:10000006-1751932800-1752019199@www.sde-asiapacific.com
SUMMARY:Reg 631 Mitsubishi Triton Car Tax
DESCRIPTION:Expires: 8th July 2025
URL:https://www.sde-asiapacific.com/insurance-renewals/reg-631-mitsubishi-triton-car-tax-expires-8th-july-2022/
CATEGORIES:Cars and Trucks
END:VEVENT
BEGIN:VEVENT
DTSTART;VALUE=DATE:20250709
DTEND;VALUE=DATE:20250710
DTSTAMP:20260420T113954
CREATED:20220525T232747Z
LAST-MODIFIED:20240708T032111Z
UID:10000025-1752019200-1752105599@www.sde-asiapacific.com
SUMMARY:Reg 7949 Nissan Navara Frontier Insurance
DESCRIPTION:Expires 9th July 2025
URL:https://www.sde-asiapacific.com/insurance-renewals/reg-7949-nissan-navara-frontier-insurance/
CATEGORIES:Cars and Trucks
END:VEVENT
BEGIN:VEVENT
DTSTART;VALUE=DATE:20250709
DTEND;VALUE=DATE:20250710
DTSTAMP:20260420T113954
CREATED:20220525T232930Z
LAST-MODIFIED:20240708T032208Z
UID:10000026-1752019200-1752105599@www.sde-asiapacific.com
SUMMARY:Reg 7949 Nissan Navara Frontier Compulsory Insurance (Por Ror Bor)
DESCRIPTION:Expires: 9th July 2025
URL:https://www.sde-asiapacific.com/insurance-renewals/reg-7949-nissan-navara-frontier-compulsory-insurance-por-ror-bor/
CATEGORIES:Cars and Trucks
END:VEVENT
BEGIN:VEVENT
DTSTART;VALUE=DATE:20250709
DTEND;VALUE=DATE:20250710
DTSTAMP:20260420T113954
CREATED:20220526T023626Z
LAST-MODIFIED:20240708T032335Z
UID:10000044-1752019200-1752105599@www.sde-asiapacific.com
SUMMARY:Reg 4574 Mitsubishi L200 Compulsory Insurance
DESCRIPTION:Expires: 9th July 2025
URL:https://www.sde-asiapacific.com/insurance-renewals/reg-4574-mitsubishi-l200-compulsory-insurance/
CATEGORIES:Cars and Trucks
END:VEVENT
BEGIN:VEVENT
DTSTART;VALUE=DATE:20250709
DTEND;VALUE=DATE:20250710
DTSTAMP:20260420T113954
CREATED:20230707T090544Z
LAST-MODIFIED:20240708T032503Z
UID:10000056-1752019200-1752105599@www.sde-asiapacific.com
SUMMARY:Reg 4574 Mitsubishi L200 Insurance
DESCRIPTION:Expires: 9th July 2025
URL:https://www.sde-asiapacific.com/insurance-renewals/reg-4574-mitsubishi-l200-insurance/
CATEGORIES:Cars and Trucks
END:VEVENT
BEGIN:VEVENT
DTSTART;VALUE=DATE:20250710
DTEND;VALUE=DATE:20250711
DTSTAMP:20260420T113954
CREATED:20220525T221604Z
LAST-MODIFIED:20240726T033812Z
UID:10000008-1752105600-1752191999@www.sde-asiapacific.com
SUMMARY:Reg 2310 Mitsubishi Triton Compulsory Insurance (Por Ror Bor)
DESCRIPTION:Expires: 10th July 2025
URL:https://www.sde-asiapacific.com/insurance-renewals/reg-2321-mitsubishi-triton-compulsory-insurance-por-ror-bor-expires-10th-july-2022/
CATEGORIES:Cars and Trucks
END:VEVENT
BEGIN:VEVENT
DTSTART;VALUE=DATE:20250710
DTEND;VALUE=DATE:20250711
DTSTAMP:20260420T113954
CREATED:20220526T012940Z
LAST-MODIFIED:20240807T025417Z
UID:10000041-1752105600-1752191999@www.sde-asiapacific.com
SUMMARY:Reg 1868 Trailer Road Tax
DESCRIPTION:Expires: 10th July 2025
URL:https://www.sde-asiapacific.com/insurance-renewals/reg-1868-trailer-road-tax/
CATEGORIES:Cars and Trucks
END:VEVENT
BEGIN:VEVENT
DTSTART;VALUE=DATE:20250710
DTEND;VALUE=DATE:20250711
DTSTAMP:20260420T113954
CREATED:20250110T051915Z
LAST-MODIFIED:20250110T051915Z
UID:10000080-1752105600-1752191999@www.sde-asiapacific.com
SUMMARY:Reg 2310 Mitsubishi Triton Insurance
DESCRIPTION:Expires: 10th July 2025
URL:https://www.sde-asiapacific.com/insurance-renewals/reg-2310-mitsubishi-triton-insurance/
CATEGORIES:Cars and Trucks
END:VEVENT
BEGIN:VEVENT
DTSTART;VALUE=DATE:20250714
DTEND;VALUE=DATE:20250715
DTSTAMP:20260420T113954
CREATED:20220526T012813Z
LAST-MODIFIED:20240807T030412Z
UID:10000040-1752451200-1752537599@www.sde-asiapacific.com
SUMMARY:Reg 1868 Trailer Compulsory Insurance (Por Ror Bor)
DESCRIPTION:Expires: 14th July 2025
URL:https://www.sde-asiapacific.com/insurance-renewals/reg-1868-trailer-compulsory-insurance-por-ror-bor/
CATEGORIES:Cars and Trucks
END:VEVENT
BEGIN:VEVENT
DTSTART;VALUE=DATE:20250725
DTEND;VALUE=DATE:20250726
DTSTAMP:20260420T113954
CREATED:20220525T225451Z
LAST-MODIFIED:20240726T034114Z
UID:10000016-1753401600-1753487999@www.sde-asiapacific.com
SUMMARY:Reg 4753 Ford Everest Insurance
DESCRIPTION:Expires: 25th July 2025\nWaiting to receive the policy
URL:https://www.sde-asiapacific.com/insurance-renewals/reg-4753-ford-everest-insurance/
CATEGORIES:Cars and Trucks
END:VEVENT
BEGIN:VEVENT
DTSTART;VALUE=DATE:20250725
DTEND;VALUE=DATE:20250726
DTSTAMP:20260420T113954
CREATED:20220525T225731Z
LAST-MODIFIED:20240726T034241Z
UID:10000017-1753401600-1753487999@www.sde-asiapacific.com
SUMMARY:Reg 4753 Ford Everest Compulsoy Insurance (Por Ror Bor)
DESCRIPTION:Expires: 25th July 2025\nWaiting to receive the policy
URL:https://www.sde-asiapacific.com/insurance-renewals/reg-4753-ford-everest-compulsoy-insurance-por-ror-bor/
CATEGORIES:Cars and Trucks
END:VEVENT
END:VCALENDAR