BEGIN:VCALENDAR
VERSION:2.0
PRODID:-//SDE Asia Pacific - ECPv6.9.1//NONSGML v1.0//EN
CALSCALE:GREGORIAN
METHOD:PUBLISH
X-WR-CALNAME:SDE Asia Pacific
X-ORIGINAL-URL:https://www.sde-asiapacific.com
X-WR-CALDESC:Events for SDE Asia Pacific
REFRESH-INTERVAL;VALUE=DURATION:PT1H
X-Robots-Tag:noindex
X-PUBLISHED-TTL:PT1H
BEGIN:VTIMEZONE
TZID:UTC
BEGIN:STANDARD
TZOFFSETFROM:+0000
TZOFFSETTO:+0000
TZNAME:UTC
DTSTART:20250101T000000
END:STANDARD
TZID:Asia/Bangkok
BEGIN:STANDARD
TZOFFSETFROM:+0700
TZOFFSETTO:+0700
TZNAME:+07
DTSTART:20250101T000000
END:STANDARD
END:VTIMEZONE
BEGIN:VEVENT
DTSTART;VALUE=DATE:20260129
DTEND;VALUE=DATE:20260130
DTSTAMP:20260420T130847
CREATED:20220525T231714Z
LAST-MODIFIED:20250129T074501Z
UID:10000023-1769644800-1769731199@www.sde-asiapacific.com
SUMMARY:Reg 6573 Toyota Yaris Compulsory Insurance (Por Ror Bor)
DESCRIPTION:Expires: 29th January 2026
URL:https://www.sde-asiapacific.com/insurance-renewals/reg-6573-toyota-yaris-compulsory-insurance-por-ror-bor/
CATEGORIES:Cars and Trucks
END:VEVENT
BEGIN:VEVENT
DTSTART;VALUE=DATE:20260129
DTEND;VALUE=DATE:20260130
DTSTAMP:20260420T130847
CREATED:20220525T231606Z
LAST-MODIFIED:20250129T074021Z
UID:10000022-1769644800-1769731199@www.sde-asiapacific.com
SUMMARY:Reg 6573 Toyota Yaris Insurance
DESCRIPTION:Expires: 29 January 26
URL:https://www.sde-asiapacific.com/insurance-renewals/reg-6573-toyota-yaris-insurance/
CATEGORIES:Cars and Trucks
END:VEVENT
BEGIN:VEVENT
DTSTART;VALUE=DATE:20260121
DTEND;VALUE=DATE:20260122
DTSTAMP:20260420T130847
CREATED:20230706T072022Z
LAST-MODIFIED:20250121T095359Z
UID:10000053-1768953600-1769039999@www.sde-asiapacific.com
SUMMARY:Bangkok no. 12 Soi 48 Sub Soi 10 Prawet - Business Safety Insurance
DESCRIPTION:Expires: 21 January 2026 \nWaiting for insurance policy
URL:https://www.sde-asiapacific.com/insurance-renewals/bangkok-no-12-soi-48-sub-soi-10-prawet-insurance/
CATEGORIES:Buildings
END:VEVENT
BEGIN:VEVENT
DTSTART;VALUE=DATE:20260117
DTEND;VALUE=DATE:20260118
DTSTAMP:20260420T130847
CREATED:20230706T070821Z
LAST-MODIFIED:20240514T051104Z
UID:10000052-1768608000-1768694399@www.sde-asiapacific.com
SUMMARY:Bangkok 155 Soi 7 Seree 8 Rama 9 Suan Luang Insurance
DESCRIPTION:Expires 16 January 2026
URL:https://www.sde-asiapacific.com/insurance-renewals/bangkok-155-soi-7-seree-7-insurance/
CATEGORIES:Buildings
END:VEVENT
BEGIN:VEVENT
DTSTART;VALUE=DATE:20260115
DTEND;VALUE=DATE:20260116
DTSTAMP:20260420T130847
CREATED:20250115T093919Z
LAST-MODIFIED:20250121T095642Z
UID:10000081-1768435200-1768521599@www.sde-asiapacific.com
SUMMARY:Bangkok - Warehouse 4 No.12 Chaleampakiat Soi 43 - Burglary Insurance
DESCRIPTION:Expires: 15th January 2026 \nWaiting for Policy
URL:https://www.sde-asiapacific.com/insurance-renewals/bangkok-warehouse-4-no-12-chaleampakiat-soi-43-burglary-insurance/
CATEGORIES:Buildings
END:VEVENT
BEGIN:VEVENT
DTSTART;VALUE=DATE:20260112
DTEND;VALUE=DATE:20260113
DTSTAMP:20260420T130847
CREATED:20231011T054504Z
LAST-MODIFIED:20250114T053255Z
UID:10000076-1768176000-1768262399@www.sde-asiapacific.com
SUMMARY:Reg 7586 Mazda 2 Car Tax
DESCRIPTION:Expires: 12th January 2026
URL:https://www.sde-asiapacific.com/insurance-renewals/reg-7586-mazda-2-car-tax/
CATEGORIES:Cars and Trucks
END:VEVENT
BEGIN:VEVENT
DTSTART;VALUE=DATE:20260112
DTEND;VALUE=DATE:20260113
DTSTAMP:20260420T130847
CREATED:20220526T011547Z
LAST-MODIFIED:20250114T085202Z
UID:10000037-1768176000-1768262399@www.sde-asiapacific.com
SUMMARY:Reg 1930 Nissan Navara Frontier Insurance
DESCRIPTION:Expires: 12th January 2026
URL:https://www.sde-asiapacific.com/insurance-renewals/reg-1930-nissan-navara-frontier-insurance/
CATEGORIES:Cars and Trucks
END:VEVENT
BEGIN:VEVENT
DTSTART;VALUE=DATE:20251110
DTEND;VALUE=DATE:20251111
DTSTAMP:20260420T130847
CREATED:20220525T230456Z
LAST-MODIFIED:20241119T025146Z
UID:10000021-1762732800-1762819199@www.sde-asiapacific.com
SUMMARY:Reg 5031 Mitsubishi Triton Car Tax
DESCRIPTION:10th November 2025
URL:https://www.sde-asiapacific.com/insurance-renewals/reg-5031-mitsubishi-triton-car-tax/
CATEGORIES:Cars and Trucks
END:VEVENT
BEGIN:VEVENT
DTSTART;VALUE=DATE:20251109
DTEND;VALUE=DATE:20251110
DTSTAMP:20260420T130847
CREATED:20230717T090150Z
LAST-MODIFIED:20250108T014228Z
UID:10000066-1762646400-1762732799@www.sde-asiapacific.com
SUMMARY:Phuket - Pier Forty Two 42 Moo 5 Insurance
DESCRIPTION:Expires: 9 November 2025
URL:https://www.sde-asiapacific.com/insurance-renewals/phuket-pier-forty-two-insurance/
CATEGORIES:Buildings
END:VEVENT
BEGIN:VEVENT
DTSTART;VALUE=DATE:20251030
DTEND;VALUE=DATE:20251031
DTSTAMP:20260420T130847
CREATED:20231107T103759Z
LAST-MODIFIED:20250122T022341Z
UID:10000077-1761782400-1761868799@www.sde-asiapacific.com
SUMMARY:Reg.2478 Motorbike Road Tax
DESCRIPTION:Expires: 30 October 2025
URL:https://www.sde-asiapacific.com/insurance-renewals/reg-2478-motorbike-road-tax/
CATEGORIES:Cars and Trucks
END:VEVENT
BEGIN:VEVENT
DTSTART;VALUE=DATE:20251026
DTEND;VALUE=DATE:20251027
DTSTAMP:20260420T130847
CREATED:20250122T022552Z
LAST-MODIFIED:20250122T022637Z
UID:10000082-1761436800-1761523199@www.sde-asiapacific.com
SUMMARY:Reg.2478 Motorbike Compulsory Insurance
DESCRIPTION:Expires 26 October 2025
URL:https://www.sde-asiapacific.com/insurance-renewals/reg-2478-motorbike-compulsory-insurance/
CATEGORIES:Cars and Trucks
END:VEVENT
BEGIN:VEVENT
DTSTART;VALUE=DATE:20251019
DTEND;VALUE=DATE:20251020
DTSTAMP:20260420T130847
CREATED:20231005T094253Z
LAST-MODIFIED:20250122T022845Z
UID:10000071-1760832000-1760918399@www.sde-asiapacific.com
SUMMARY:Reg.365 Motorbike Compulsory Insurance
DESCRIPTION:Expires: 19 October 2025
URL:https://www.sde-asiapacific.com/insurance-renewals/reg-365-motorbike-insurance/
CATEGORIES:Cars and Trucks
END:VEVENT
BEGIN:VEVENT
DTSTART;VALUE=DATE:20251015
DTEND;VALUE=DATE:20251016
DTSTAMP:20260420T130847
CREATED:20220525T230346Z
LAST-MODIFIED:20241017T085004Z
UID:10000020-1760486400-1760572799@www.sde-asiapacific.com
SUMMARY:Reg 5031 Mitsubishi Triton Compulsory Insurance (Por Ror Bor)
DESCRIPTION:Expires: 15th October 2025
URL:https://www.sde-asiapacific.com/insurance-renewals/reg-5031-mitsubishi-triton-compulsory-insurance-por-ror-bor/
CATEGORIES:Cars and Trucks
END:VEVENT
BEGIN:VEVENT
DTSTART;VALUE=DATE:20251015
DTEND;VALUE=DATE:20251016
DTSTAMP:20260420T130847
CREATED:20220525T230217Z
LAST-MODIFIED:20241017T084849Z
UID:10000019-1760486400-1760572799@www.sde-asiapacific.com
SUMMARY:Reg 5031 Mitsubishi Triton Insurance
DESCRIPTION:Expires: 15th October 2025
URL:https://www.sde-asiapacific.com/insurance-renewals/reg-5031-mitsubishi-triton-insurance/
CATEGORIES:Cars and Trucks
END:VEVENT
BEGIN:VEVENT
DTSTART;VALUE=DATE:20251010
DTEND;VALUE=DATE:20251011
DTSTAMP:20260420T130847
CREATED:20220525T234351Z
LAST-MODIFIED:20241030T041451Z
UID:10000033-1760054400-1760140799@www.sde-asiapacific.com
SUMMARY:Reg 8253 Mitsubishi Triton Car Tax
DESCRIPTION:Expires: 6th October 2025
URL:https://www.sde-asiapacific.com/insurance-renewals/reg-8253-mitsubishi-triton-car-tax/
CATEGORIES:Cars and Trucks
END:VEVENT
BEGIN:VEVENT
DTSTART;VALUE=DATE:20251006
DTEND;VALUE=DATE:20251007
DTSTAMP:20260420T130847
CREATED:20220525T234210Z
LAST-MODIFIED:20241030T041904Z
UID:10000032-1759708800-1759795199@www.sde-asiapacific.com
SUMMARY:Reg 8253 Mitsubishi Triton Compulsory Insurance (Por Ror Bor)
DESCRIPTION:Expires: 6th October 2025
URL:https://www.sde-asiapacific.com/insurance-renewals/reg-8253-mitsubishi-triton-compulsory-insurance-por-ror-bor/
CATEGORIES:Cars and Trucks
END:VEVENT
BEGIN:VEVENT
DTSTART;VALUE=DATE:20251003
DTEND;VALUE=DATE:20251004
DTSTAMP:20260420T130847
CREATED:20231011T054348Z
LAST-MODIFIED:20241017T090236Z
UID:10000075-1759449600-1759535999@www.sde-asiapacific.com
SUMMARY:Reg 7586 Mazda 2 Compulsory Insurance (Por Ror Bor)
DESCRIPTION:Expires: 3rd October 2025
URL:https://www.sde-asiapacific.com/insurance-renewals/reg-7586-mazda-2-compulsory-insurance-por-ror-bor/
CATEGORIES:Cars and Trucks
END:VEVENT
BEGIN:VEVENT
DTSTART;VALUE=DATE:20251003
DTEND;VALUE=DATE:20251004
DTSTAMP:20260420T130847
CREATED:20231003T052003Z
LAST-MODIFIED:20241017T085831Z
UID:10000069-1759449600-1759535999@www.sde-asiapacific.com
SUMMARY:Reg 7586 Mazda 2 Insurance
DESCRIPTION:Expires: 3rd October 2025
URL:https://www.sde-asiapacific.com/insurance-renewals/reg-7586-mazda-2/
CATEGORIES:Cars and Trucks
END:VEVENT
BEGIN:VEVENT
DTSTART;VALUE=DATE:20250928
DTEND;VALUE=DATE:20250929
DTSTAMP:20260420T130848
CREATED:20230717T084337Z
LAST-MODIFIED:20250115T093741Z
UID:10000063-1759017600-1759103999@www.sde-asiapacific.com
SUMMARY:Bangkok - Warehouse 4 No.12 Chaleampakiat Soi 43 - Fire Insurance
DESCRIPTION:Expires: 28 September 2025
URL:https://www.sde-asiapacific.com/insurance-renewals/bangkok-warehouse-4-no-12-chaleampakiat/
CATEGORIES:Buildings
END:VEVENT
BEGIN:VEVENT
DTSTART;VALUE=DATE:20250904
DTEND;VALUE=DATE:20250905
DTSTAMP:20260420T130848
CREATED:20220525T225846Z
LAST-MODIFIED:20240927T014844Z
UID:10000018-1756944000-1757030399@www.sde-asiapacific.com
SUMMARY:Reg 4753 Ford Everest Car Tax
DESCRIPTION:Expires: 4th September 2025
URL:https://www.sde-asiapacific.com/insurance-renewals/reg-4753-ford-everest-car-tax/
CATEGORIES:Cars and Trucks
END:VEVENT
BEGIN:VEVENT
DTSTART;VALUE=DATE:20250828
DTEND;VALUE=DATE:20250829
DTSTAMP:20260420T130848
CREATED:20220525T234057Z
LAST-MODIFIED:20240807T055436Z
UID:10000031-1756339200-1756425599@www.sde-asiapacific.com
SUMMARY:Reg 8253 Mitsubishi Triton Insurance
DESCRIPTION:Expires: 28th August 2025
URL:https://www.sde-asiapacific.com/insurance-renewals/reg-8253-mitsubishi-triton-insurance/
CATEGORIES:Cars and Trucks
END:VEVENT
BEGIN:VEVENT
DTSTART;VALUE=DATE:20250824
DTEND;VALUE=DATE:20250825
DTSTAMP:20260420T130848
CREATED:20230706T052556Z
LAST-MODIFIED:20240927T035807Z
UID:10000050-1755993600-1756079999@www.sde-asiapacific.com
SUMMARY:Travel Accident Insurance PSCO
DESCRIPTION:Expires: 24 August 2025
URL:https://www.sde-asiapacific.com/insurance-renewals/travel-accident-insurance-psco/
CATEGORIES:Liability
END:VEVENT
BEGIN:VEVENT
DTSTART;VALUE=DATE:20250811
DTEND;VALUE=DATE:20250812
DTSTAMP:20260420T130848
CREATED:20220525T233108Z
LAST-MODIFIED:20240820T041812Z
UID:10000027-1754870400-1754956799@www.sde-asiapacific.com
SUMMARY:Reg 7949 Nissan Navara Frontier Car Tax
DESCRIPTION:Expires: 11th August 2025
URL:https://www.sde-asiapacific.com/insurance-renewals/reg-7949-nissan-navara-frontier-car-tax/
CATEGORIES:Cars and Trucks
END:VEVENT
BEGIN:VEVENT
DTSTART;VALUE=DATE:20250808
DTEND;VALUE=DATE:20250809
DTSTAMP:20260420T130848
CREATED:20220525T221947Z
LAST-MODIFIED:20240820T042113Z
UID:10000009-1754611200-1754697599@www.sde-asiapacific.com
SUMMARY:Reg 2310 Mitsubishi Triton Car Tax
DESCRIPTION:Expires: 8th August 2025
URL:https://www.sde-asiapacific.com/insurance-renewals/reg-2310-mitsubishi-triton-car-tax/
CATEGORIES:Cars and Trucks
END:VEVENT
BEGIN:VEVENT
DTSTART;VALUE=DATE:20250806
DTEND;VALUE=DATE:20250807
DTSTAMP:20260420T130848
CREATED:20230717T085244Z
LAST-MODIFIED:20241017T091022Z
UID:10000064-1754438400-1754524799@www.sde-asiapacific.com
SUMMARY:Bangkok Prawet 103 103/1 Office Fire Insurance
DESCRIPTION:Expires: 6 August 2025
URL:https://www.sde-asiapacific.com/insurance-renewals/bangkok-prawet-103-103-1-office-first-insurance/
CATEGORIES:Buildings
END:VEVENT
BEGIN:VEVENT
DTSTART;VALUE=DATE:20250801
DTEND;VALUE=DATE:20250802
DTSTAMP:20260420T130848
CREATED:20220525T234809Z
LAST-MODIFIED:20240820T043718Z
UID:10000036-1754006400-1754092799@www.sde-asiapacific.com
SUMMARY:Reg 8875 Mitsubishi Strada Car Tax
DESCRIPTION:Expires: 1st August 2025
URL:https://www.sde-asiapacific.com/insurance-renewals/reg-8875-mitsubishi-strada-car-tax/
CATEGORIES:Cars and Trucks
END:VEVENT
BEGIN:VEVENT
DTSTART;VALUE=DATE:20250725
DTEND;VALUE=DATE:20250726
DTSTAMP:20260420T130848
CREATED:20220525T225731Z
LAST-MODIFIED:20240726T034241Z
UID:10000017-1753401600-1753487999@www.sde-asiapacific.com
SUMMARY:Reg 4753 Ford Everest Compulsoy Insurance (Por Ror Bor)
DESCRIPTION:Expires: 25th July 2025\nWaiting to receive the policy
URL:https://www.sde-asiapacific.com/insurance-renewals/reg-4753-ford-everest-compulsoy-insurance-por-ror-bor/
CATEGORIES:Cars and Trucks
END:VEVENT
BEGIN:VEVENT
DTSTART;VALUE=DATE:20250725
DTEND;VALUE=DATE:20250726
DTSTAMP:20260420T130848
CREATED:20220525T225451Z
LAST-MODIFIED:20240726T034114Z
UID:10000016-1753401600-1753487999@www.sde-asiapacific.com
SUMMARY:Reg 4753 Ford Everest Insurance
DESCRIPTION:Expires: 25th July 2025\nWaiting to receive the policy
URL:https://www.sde-asiapacific.com/insurance-renewals/reg-4753-ford-everest-insurance/
CATEGORIES:Cars and Trucks
END:VEVENT
BEGIN:VEVENT
DTSTART;VALUE=DATE:20250714
DTEND;VALUE=DATE:20250715
DTSTAMP:20260420T130848
CREATED:20220526T012813Z
LAST-MODIFIED:20240807T030412Z
UID:10000040-1752451200-1752537599@www.sde-asiapacific.com
SUMMARY:Reg 1868 Trailer Compulsory Insurance (Por Ror Bor)
DESCRIPTION:Expires: 14th July 2025
URL:https://www.sde-asiapacific.com/insurance-renewals/reg-1868-trailer-compulsory-insurance-por-ror-bor/
CATEGORIES:Cars and Trucks
END:VEVENT
BEGIN:VEVENT
DTSTART;VALUE=DATE:20250710
DTEND;VALUE=DATE:20250711
DTSTAMP:20260420T130848
CREATED:20250110T051915Z
LAST-MODIFIED:20250110T051915Z
UID:10000080-1752105600-1752191999@www.sde-asiapacific.com
SUMMARY:Reg 2310 Mitsubishi Triton Insurance
DESCRIPTION:Expires: 10th July 2025
URL:https://www.sde-asiapacific.com/insurance-renewals/reg-2310-mitsubishi-triton-insurance/
CATEGORIES:Cars and Trucks
END:VEVENT
END:VCALENDAR