BEGIN:VCALENDAR
VERSION:2.0
PRODID:-//SDE Asia Pacific - ECPv6.9.1//NONSGML v1.0//EN
CALSCALE:GREGORIAN
METHOD:PUBLISH
X-ORIGINAL-URL:https://www.sde-asiapacific.com
X-WR-CALDESC:Events for SDE Asia Pacific
REFRESH-INTERVAL;VALUE=DURATION:PT1H
X-Robots-Tag:noindex
X-PUBLISHED-TTL:PT1H
BEGIN:VTIMEZONE
TZID:UTC
BEGIN:STANDARD
TZOFFSETFROM:+0000
TZOFFSETTO:+0000
TZNAME:UTC
DTSTART:20250101T000000
END:STANDARD
END:VTIMEZONE
BEGIN:VEVENT
DTSTART;VALUE=DATE:20251010
DTEND;VALUE=DATE:20251011
DTSTAMP:20260420T063207
CREATED:20220525T234351Z
LAST-MODIFIED:20241030T041451Z
UID:10000033-1760054400-1760140799@www.sde-asiapacific.com
SUMMARY:Reg 8253 Mitsubishi Triton Car Tax
DESCRIPTION:Expires: 6th October 2025
URL:https://www.sde-asiapacific.com/insurance-renewals/reg-8253-mitsubishi-triton-car-tax/
CATEGORIES:Cars and Trucks
END:VEVENT
END:VCALENDAR