BEGIN:VCALENDAR
VERSION:2.0
PRODID:-//SDE Asia Pacific - ECPv6.9.1//NONSGML v1.0//EN
CALSCALE:GREGORIAN
METHOD:PUBLISH
X-ORIGINAL-URL:https://www.sde-asiapacific.com
X-WR-CALDESC:Events for SDE Asia Pacific
REFRESH-INTERVAL;VALUE=DURATION:PT1H
X-Robots-Tag:noindex
X-PUBLISHED-TTL:PT1H
BEGIN:VTIMEZONE
TZID:UTC
BEGIN:STANDARD
TZOFFSETFROM:+0000
TZOFFSETTO:+0000
TZNAME:UTC
DTSTART:20250101T000000
END:STANDARD
TZID:Asia/Bangkok
BEGIN:STANDARD
TZOFFSETFROM:+0700
TZOFFSETTO:+0700
TZNAME:+07
DTSTART:20250101T000000
END:STANDARD
END:VTIMEZONE
BEGIN:VEVENT
DTSTART;VALUE=DATE:20250710
DTEND;VALUE=DATE:20250711
DTSTAMP:20260420T114454
CREATED:20220525T221604Z
LAST-MODIFIED:20240726T033812Z
UID:10000008-1752105600-1752191999@www.sde-asiapacific.com
SUMMARY:Reg 2310 Mitsubishi Triton Compulsory Insurance (Por Ror Bor)
DESCRIPTION:Expires: 10th July 2025
URL:https://www.sde-asiapacific.com/insurance-renewals/reg-2321-mitsubishi-triton-compulsory-insurance-por-ror-bor-expires-10th-july-2022/
CATEGORIES:Cars and Trucks
END:VEVENT
BEGIN:VEVENT
DTSTART;VALUE=DATE:20250710
DTEND;VALUE=DATE:20250711
DTSTAMP:20260420T114454
CREATED:20220526T012940Z
LAST-MODIFIED:20240807T025417Z
UID:10000041-1752105600-1752191999@www.sde-asiapacific.com
SUMMARY:Reg 1868 Trailer Road Tax
DESCRIPTION:Expires: 10th July 2025
URL:https://www.sde-asiapacific.com/insurance-renewals/reg-1868-trailer-road-tax/
CATEGORIES:Cars and Trucks
END:VEVENT
BEGIN:VEVENT
DTSTART;VALUE=DATE:20250710
DTEND;VALUE=DATE:20250711
DTSTAMP:20260420T114454
CREATED:20250110T051915Z
LAST-MODIFIED:20250110T051915Z
UID:10000080-1752105600-1752191999@www.sde-asiapacific.com
SUMMARY:Reg 2310 Mitsubishi Triton Insurance
DESCRIPTION:Expires: 10th July 2025
URL:https://www.sde-asiapacific.com/insurance-renewals/reg-2310-mitsubishi-triton-insurance/
CATEGORIES:Cars and Trucks
END:VEVENT
END:VCALENDAR