BEGIN:VCALENDAR
VERSION:2.0
PRODID:-//SDE Asia Pacific - ECPv6.9.1//NONSGML v1.0//EN
CALSCALE:GREGORIAN
METHOD:PUBLISH
X-ORIGINAL-URL:https://www.sde-asiapacific.com
X-WR-CALDESC:Events for SDE Asia Pacific
REFRESH-INTERVAL;VALUE=DURATION:PT1H
X-Robots-Tag:noindex
X-PUBLISHED-TTL:PT1H
BEGIN:VTIMEZONE
TZID:Asia/Bangkok
BEGIN:STANDARD
TZOFFSETFROM:+0700
TZOFFSETTO:+0700
TZNAME:+07
DTSTART:20250101T000000
END:STANDARD
END:VTIMEZONE
BEGIN:VEVENT
DTSTART;VALUE=DATE:20250626
DTEND;VALUE=DATE:20250627
DTSTAMP:20260420T133058
CREATED:20231005T101103Z
LAST-MODIFIED:20250122T023042Z
UID:10000073-1750896000-1750982399@www.sde-asiapacific.com
SUMMARY:Reg.37 Motorbike Compulsory Insurance
DESCRIPTION:Expires: 26 June 2025
URL:https://www.sde-asiapacific.com/insurance-renewals/reg-37-motorbike-insurance/
CATEGORIES:Cars and Trucks
END:VEVENT
BEGIN:VEVENT
DTSTART;VALUE=DATE:20250626
DTEND;VALUE=DATE:20250627
DTSTAMP:20260420T133058
CREATED:20231005T102104Z
LAST-MODIFIED:20240627T055457Z
UID:10000074-1750896000-1750982399@www.sde-asiapacific.com
SUMMARY:Reg.37 Motorbike Road Tax
DESCRIPTION:Expires: 26th June 2025
URL:https://www.sde-asiapacific.com/insurance-renewals/reg-37-motorbike-road-tax/
CATEGORIES:Cars and Trucks
END:VEVENT
END:VCALENDAR