BEGIN:VCALENDAR
VERSION:2.0
PRODID:-//SDE Asia Pacific - ECPv6.9.1//NONSGML v1.0//EN
CALSCALE:GREGORIAN
METHOD:PUBLISH
X-ORIGINAL-URL:https://www.sde-asiapacific.com
X-WR-CALDESC:Events for SDE Asia Pacific
REFRESH-INTERVAL;VALUE=DURATION:PT1H
X-Robots-Tag:noindex
X-PUBLISHED-TTL:PT1H
BEGIN:VTIMEZONE
TZID:UTC
BEGIN:STANDARD
TZOFFSETFROM:+0000
TZOFFSETTO:+0000
TZNAME:UTC
DTSTART:20250101T000000
END:STANDARD
END:VTIMEZONE
BEGIN:VEVENT
DTSTART;VALUE=DATE:20250624
DTEND;VALUE=DATE:20250625
DTSTAMP:20260420T133059
CREATED:20220525T234657Z
LAST-MODIFIED:20240708T023212Z
UID:10000035-1750723200-1750809599@www.sde-asiapacific.com
SUMMARY:Reg 8875 Mitsubishi Strada Compulsory Insurance (Por Ror Bor)
DESCRIPTION:Expires: 24th June 2025
URL:https://www.sde-asiapacific.com/insurance-renewals/reg-8875-mitsubishi-strada-compulsory-insurance-por-ror-bor/
CATEGORIES:Cars and Trucks
END:VEVENT
END:VCALENDAR