BEGIN:VCALENDAR
VERSION:2.0
PRODID:-//SDE Asia Pacific - ECPv6.9.1//NONSGML v1.0//EN
CALSCALE:GREGORIAN
METHOD:PUBLISH
X-ORIGINAL-URL:https://www.sde-asiapacific.com
X-WR-CALDESC:Events for SDE Asia Pacific
REFRESH-INTERVAL;VALUE=DURATION:PT1H
X-Robots-Tag:noindex
X-PUBLISHED-TTL:PT1H
BEGIN:VTIMEZONE
TZID:UTC
BEGIN:STANDARD
TZOFFSETFROM:+0000
TZOFFSETTO:+0000
TZNAME:UTC
DTSTART:20250101T000000
END:STANDARD
END:VTIMEZONE
BEGIN:VEVENT
DTSTART;VALUE=DATE:20250621
DTEND;VALUE=DATE:20250622
DTSTAMP:20260420T133059
CREATED:20220525T215937Z
LAST-MODIFIED:20240624T103921Z
UID:10000004-1750464000-1750550399@www.sde-asiapacific.com
SUMMARY:Reg 631 Mitsubishi Triton Insurance
DESCRIPTION:Expires: 21st June 2025
URL:https://www.sde-asiapacific.com/insurance-renewals/reg-631-mitsubishi-triton-insurance-expires-21st-june-2022/
CATEGORIES:Cars and Trucks
END:VEVENT
BEGIN:VEVENT
DTSTART;VALUE=DATE:20250621
DTEND;VALUE=DATE:20250622
DTSTAMP:20260420T133059
CREATED:20220525T220030Z
LAST-MODIFIED:20240624T104015Z
UID:10000005-1750464000-1750550399@www.sde-asiapacific.com
SUMMARY:Reg 631 Mitsubishi Triton Compulsory Insurance (Por Ror Bor)
DESCRIPTION:Expires: 21st June 2025
URL:https://www.sde-asiapacific.com/insurance-renewals/reg-631-mitsubishi-triton-compulsory-insurance-por-ror-bor-expires-21st-june-2022/
CATEGORIES:Cars and Trucks
END:VEVENT
BEGIN:VEVENT
DTSTART;VALUE=DATE:20250621
DTEND;VALUE=DATE:20250622
DTSTAMP:20260420T133059
CREATED:20220525T233639Z
LAST-MODIFIED:20240610T041528Z
UID:10000030-1750464000-1750550399@www.sde-asiapacific.com
SUMMARY:Reg 8078 Mazda 8 Car Tax
DESCRIPTION:Expires: 21st June 2025
URL:https://www.sde-asiapacific.com/insurance-renewals/reg-8078-mazda-8-car-tax/
CATEGORIES:Cars and Trucks
END:VEVENT
END:VCALENDAR