BEGIN:VCALENDAR
VERSION:2.0
PRODID:-//SDE Asia Pacific - ECPv6.9.1//NONSGML v1.0//EN
CALSCALE:GREGORIAN
METHOD:PUBLISH
X-ORIGINAL-URL:https://www.sde-asiapacific.com
X-WR-CALDESC:Events for SDE Asia Pacific
REFRESH-INTERVAL;VALUE=DURATION:PT1H
X-Robots-Tag:noindex
X-PUBLISHED-TTL:PT1H
BEGIN:VTIMEZONE
TZID:UTC
BEGIN:STANDARD
TZOFFSETFROM:+0000
TZOFFSETTO:+0000
TZNAME:UTC
DTSTART:20250101T000000
END:STANDARD
END:VTIMEZONE
BEGIN:VEVENT
DTSTART;VALUE=DATE:20250505
DTEND;VALUE=DATE:20250506
DTSTAMP:20260420T153205
CREATED:20220525T233355Z
LAST-MODIFIED:20240503T072858Z
UID:10000028-1746403200-1746489599@www.sde-asiapacific.com
SUMMARY:Reg 8078 Mazda 8 Insurance
DESCRIPTION:Expires: 5th May 2025
URL:https://www.sde-asiapacific.com/insurance-renewals/reg-8078-mazda-8-insurance/
CATEGORIES:Cars and Trucks
END:VEVENT
BEGIN:VEVENT
DTSTART;VALUE=DATE:20250505
DTEND;VALUE=DATE:20250506
DTSTAMP:20260420T153205
CREATED:20220525T233453Z
LAST-MODIFIED:20240503T073043Z
UID:10000029-1746403200-1746489599@www.sde-asiapacific.com
SUMMARY:Reg 8078 Mazda 8 Compulsory Insurance (Por Ror Bor)
DESCRIPTION:Expires: 5th May 2025
URL:https://www.sde-asiapacific.com/insurance-renewals/reg-8078-mazda-8-compulsory-insurance-por-ror-bor/
CATEGORIES:Cars and Trucks
END:VEVENT
END:VCALENDAR