BEGIN:VCALENDAR
VERSION:2.0
PRODID:-//SDE Asia Pacific - ECPv6.9.1//NONSGML v1.0//EN
CALSCALE:GREGORIAN
METHOD:PUBLISH
X-WR-CALNAME:SDE Asia Pacific
X-ORIGINAL-URL:https://www.sde-asiapacific.com
X-WR-CALDESC:Events for SDE Asia Pacific
REFRESH-INTERVAL;VALUE=DURATION:PT1H
X-Robots-Tag:noindex
X-PUBLISHED-TTL:PT1H
BEGIN:VTIMEZONE
TZID:UTC
BEGIN:STANDARD
TZOFFSETFROM:+0000
TZOFFSETTO:+0000
TZNAME:UTC
DTSTART:20250101T000000
END:STANDARD
END:VTIMEZONE
BEGIN:VEVENT
DTSTART;VALUE=DATE:20250202
DTEND;VALUE=DATE:20250203
DTSTAMP:20260420T201228
CREATED:20220526T011657Z
LAST-MODIFIED:20240219T051355Z
UID:10000038-1738454400-1738540799@www.sde-asiapacific.com
SUMMARY:Reg 1930 Nissan Navara Frontier Compulsory Insurance (Por Ror Bor)
DESCRIPTION:Expires: 2nd February 2025
URL:https://www.sde-asiapacific.com/insurance-renewals/reg-1930-nissan-navara-frontier-compulsory-insurance-por-ror-bor/
CATEGORIES:Cars and Trucks
END:VEVENT
BEGIN:VEVENT
DTSTART;VALUE=DATE:20250202
DTEND;VALUE=DATE:20250203
DTSTAMP:20260420T201228
CREATED:20220525T224000Z
LAST-MODIFIED:20240219T043830Z
UID:10000010-1738454400-1738540799@www.sde-asiapacific.com
SUMMARY:Reg 10 Nissan Terra Insurance
DESCRIPTION:Expires: 2nd February 2025
URL:https://www.sde-asiapacific.com/insurance-renewals/reg-1865-nissan-terra-insurance/
CATEGORIES:Cars and Trucks
END:VEVENT
BEGIN:VEVENT
DTSTART;VALUE=DATE:20250202
DTEND;VALUE=DATE:20250203
DTSTAMP:20260420T201228
CREATED:20220525T224200Z
LAST-MODIFIED:20240219T043617Z
UID:10000011-1738454400-1738540799@www.sde-asiapacific.com
SUMMARY:Reg 10 Nissan Terra Compulsory Insurance (Por Ror Bor)
DESCRIPTION:Expires: 2nd February 2025
URL:https://www.sde-asiapacific.com/insurance-renewals/reg-1865-nissan-terra-compulsory-insurance-por-ror-bor/
CATEGORIES:Cars and Trucks
END:VEVENT
END:VCALENDAR