BEGIN:VCALENDAR
VERSION:2.0
PRODID:-//SDE Asia Pacific - ECPv6.9.1//NONSGML v1.0//EN
CALSCALE:GREGORIAN
METHOD:PUBLISH
X-WR-CALNAME:SDE Asia Pacific
X-ORIGINAL-URL:https://www.sde-asiapacific.com
X-WR-CALDESC:Events for SDE Asia Pacific
REFRESH-INTERVAL;VALUE=DURATION:PT1H
X-Robots-Tag:noindex
X-PUBLISHED-TTL:PT1H
BEGIN:VTIMEZONE
TZID:UTC
BEGIN:STANDARD
TZOFFSETFROM:+0000
TZOFFSETTO:+0000
TZNAME:UTC
DTSTART:20250101T000000
END:STANDARD
TZID:Asia/Bangkok
BEGIN:STANDARD
TZOFFSETFROM:+0700
TZOFFSETTO:+0700
TZNAME:+07
DTSTART:20250101T000000
END:STANDARD
END:VTIMEZONE
BEGIN:VEVENT
DTSTART;VALUE=DATE:20250309
DTEND;VALUE=DATE:20250310
DTSTAMP:20260420T165236
CREATED:20220525T231837Z
LAST-MODIFIED:20240227T022844Z
UID:10000024-1741478400-1741564799@www.sde-asiapacific.com
SUMMARY:Reg 6573 Toyota Yaris Car Tax
DESCRIPTION:Expires: 9th March 2025
URL:https://www.sde-asiapacific.com/insurance-renewals/reg-6573-toyota-yaris-car-tax/
CATEGORIES:Cars and Trucks
END:VEVENT
BEGIN:VEVENT
DTSTART;VALUE=DATE:20250315
DTEND;VALUE=DATE:20250316
DTSTAMP:20260420T165236
CREATED:20220525T224436Z
LAST-MODIFIED:20240315T033436Z
UID:10000012-1741996800-1742083199@www.sde-asiapacific.com
SUMMARY:Reg 10 Nissan Terra Car Tax
DESCRIPTION:Expires: 15 March 2025
URL:https://www.sde-asiapacific.com/insurance-renewals/reg-1865-nissan-terra-car-tax/
CATEGORIES:Cars and Trucks
END:VEVENT
BEGIN:VEVENT
DTSTART;VALUE=DATE:20250321
DTEND;VALUE=DATE:20250322
DTSTAMP:20260420T165236
CREATED:20231005T091722Z
LAST-MODIFIED:20240320T102059Z
UID:10000070-1742515200-1742601599@www.sde-asiapacific.com
SUMMARY:Reg.365 Motorbike Road Tax
DESCRIPTION:Expires: 21 March 2025
URL:https://www.sde-asiapacific.com/insurance-renewals/reg-365-motorbike-road-tax/
CATEGORIES:Cars and Trucks
END:VEVENT
BEGIN:VEVENT
DTSTART;VALUE=DATE:20250331
DTEND;VALUE=DATE:20250401
DTSTAMP:20260420T165236
CREATED:20220525T224853Z
LAST-MODIFIED:20240425T032017Z
UID:10000014-1743379200-1743465599@www.sde-asiapacific.com
SUMMARY:Reg 3889 HINO Truck Compulsory Insurance (Por Ror Bor)
DESCRIPTION:Expires: 31st March 2025
URL:https://www.sde-asiapacific.com/insurance-renewals/reg-3889-hino-truck-compulsory-insurance-por-ror-bor/
CATEGORIES:Cars and Trucks
END:VEVENT
BEGIN:VEVENT
DTSTART;VALUE=DATE:20250331
DTEND;VALUE=DATE:20250401
DTSTAMP:20260420T165236
CREATED:20220525T225045Z
LAST-MODIFIED:20240424T102329Z
UID:10000015-1743379200-1743465599@www.sde-asiapacific.com
SUMMARY:Reg 3889 HINO Truck Road Tax
DESCRIPTION:Expires: 31st March 2025
URL:https://www.sde-asiapacific.com/insurance-renewals/reg-3889-hino-truck-road-tax/
CATEGORIES:Cars and Trucks
END:VEVENT
BEGIN:VEVENT
DTSTART;VALUE=DATE:20250331
DTEND;VALUE=DATE:20250401
DTSTAMP:20260420T165236
CREATED:20220526T011814Z
LAST-MODIFIED:20240328T043622Z
UID:10000039-1743379200-1743465599@www.sde-asiapacific.com
SUMMARY:Reg 1930 Nissan Navara Frontier Car Tax
DESCRIPTION:Expires: 31st March 2025
URL:https://www.sde-asiapacific.com/insurance-renewals/reg-1930-nissan-navara-frontier-car-tax/
CATEGORIES:Cars and Trucks
END:VEVENT
END:VCALENDAR