BEGIN:VCALENDAR
VERSION:2.0
PRODID:-//SDE Asia Pacific - ECPv6.9.1//NONSGML v1.0//EN
CALSCALE:GREGORIAN
METHOD:PUBLISH
X-ORIGINAL-URL:https://www.sde-asiapacific.com
X-WR-CALDESC:Events for SDE Asia Pacific
REFRESH-INTERVAL;VALUE=DURATION:PT1H
X-Robots-Tag:noindex
X-PUBLISHED-TTL:PT1H
BEGIN:VTIMEZONE
TZID:Asia/Bangkok
BEGIN:STANDARD
TZOFFSETFROM:+0700
TZOFFSETTO:+0700
TZNAME:+07
DTSTART:20260101T000000
END:STANDARD
END:VTIMEZONE
BEGIN:VEVENT
DTSTART;VALUE=DATE:20260121
DTEND;VALUE=DATE:20260122
DTSTAMP:20260420T024520
CREATED:20230706T072022Z
LAST-MODIFIED:20250121T095359Z
UID:10000053-1768953600-1769039999@www.sde-asiapacific.com
SUMMARY:Bangkok no. 12 Soi 48 Sub Soi 10 Prawet - Business Safety Insurance
DESCRIPTION:Expires: 21 January 2026 \nWaiting for insurance policy
URL:https://www.sde-asiapacific.com/insurance-renewals/bangkok-no-12-soi-48-sub-soi-10-prawet-insurance/
CATEGORIES:Buildings
END:VEVENT
END:VCALENDAR