BEGIN:VCALENDAR
VERSION:2.0
PRODID:-//SDE Asia Pacific - ECPv6.9.1//NONSGML v1.0//EN
CALSCALE:GREGORIAN
METHOD:PUBLISH
X-ORIGINAL-URL:https://www.sde-asiapacific.com
X-WR-CALDESC:Events for SDE Asia Pacific
REFRESH-INTERVAL;VALUE=DURATION:PT1H
X-Robots-Tag:noindex
X-PUBLISHED-TTL:PT1H
BEGIN:VTIMEZONE
TZID:Asia/Bangkok
BEGIN:STANDARD
TZOFFSETFROM:+0700
TZOFFSETTO:+0700
TZNAME:+07
DTSTART:20250101T000000
END:STANDARD
END:VTIMEZONE
BEGIN:VEVENT
DTSTART;VALUE=DATE:20250501
DTEND;VALUE=DATE:20250502
DTSTAMP:20260420T195202
CREATED:20230717T083824Z
LAST-MODIFIED:20240514T060044Z
UID:10000062-1746057600-1746143999@www.sde-asiapacific.com
SUMMARY:Prachinburi - WIld Lodge - Accidental Property Damage
DESCRIPTION:Expires: 1 May 2025
URL:https://www.sde-asiapacific.com/insurance-renewals/prachinburi-wild-lodge-accidental-property-damage/
CATEGORIES:Buildings
END:VEVENT
BEGIN:VEVENT
DTSTART;VALUE=DATE:20250513
DTEND;VALUE=DATE:20250514
DTSTAMP:20260420T195202
CREATED:20230630T100130Z
LAST-MODIFIED:20250109T094532Z
UID:10000045-1747094400-1747180799@www.sde-asiapacific.com
SUMMARY:Bangkok 496 Soi Sirithavorn- Fire Insurance
DESCRIPTION:Expires 13 May 2025
URL:https://www.sde-asiapacific.com/insurance-renewals/bangkok-496-soi-sirithavorn-fire-insurance/
CATEGORIES:Buildings
END:VEVENT
END:VCALENDAR