BEGIN:VCALENDAR
VERSION:2.0
PRODID:-//SDE Asia Pacific - ECPv6.9.1//NONSGML v1.0//EN
CALSCALE:GREGORIAN
METHOD:PUBLISH
X-ORIGINAL-URL:https://www.sde-asiapacific.com
X-WR-CALDESC:Events for SDE Asia Pacific
REFRESH-INTERVAL;VALUE=DURATION:PT1H
X-Robots-Tag:noindex
X-PUBLISHED-TTL:PT1H
BEGIN:VTIMEZONE
TZID:Asia/Bangkok
BEGIN:STANDARD
TZOFFSETFROM:+0700
TZOFFSETTO:+0700
TZNAME:+07
DTSTART:20250101T000000
END:STANDARD
END:VTIMEZONE
BEGIN:VEVENT
DTSTART;VALUE=DATE:20250301
DTEND;VALUE=DATE:20250302
DTSTAMP:20260420T233338
CREATED:20250108T044541Z
LAST-MODIFIED:20250108T044619Z
UID:10000079-1740787200-1740873599@www.sde-asiapacific.com
SUMMARY:Samui 46/21 Bophut Soi Colibri - Fire Insurance
DESCRIPTION:Expires: 1 March 2025
URL:https://www.sde-asiapacific.com/insurance-renewals/samui-46-21-soi-colibri-fire-insurance/
CATEGORIES:Buildings
END:VEVENT
END:VCALENDAR