BEGIN:VCALENDAR
VERSION:2.0
PRODID:-//SDE Asia Pacific - ECPv6.9.1//NONSGML v1.0//EN
CALSCALE:GREGORIAN
METHOD:PUBLISH
X-ORIGINAL-URL:https://www.sde-asiapacific.com
X-WR-CALDESC:Events for SDE Asia Pacific
REFRESH-INTERVAL;VALUE=DURATION:PT1H
X-Robots-Tag:noindex
X-PUBLISHED-TTL:PT1H
BEGIN:VTIMEZONE
TZID:Asia/Bangkok
BEGIN:STANDARD
TZOFFSETFROM:+0700
TZOFFSETTO:+0700
TZNAME:+07
DTSTART:20250101T000000
END:STANDARD
END:VTIMEZONE
BEGIN:VEVENT
DTSTART;VALUE=DATE:20251019
DTEND;VALUE=DATE:20251020
DTSTAMP:20260420T080707
CREATED:20231005T094253Z
LAST-MODIFIED:20250122T022845Z
UID:10000071-1760832000-1760918399@www.sde-asiapacific.com
SUMMARY:Reg.365 Motorbike Compulsory Insurance
DESCRIPTION:Expires: 19 October 2025
URL:https://www.sde-asiapacific.com/insurance-renewals/reg-365-motorbike-insurance/
CATEGORIES:Cars and Trucks
END:VEVENT
END:VCALENDAR