BEGIN:VCALENDAR
VERSION:2.0
PRODID:-//SDE Asia Pacific - ECPv6.9.1//NONSGML v1.0//EN
CALSCALE:GREGORIAN
METHOD:PUBLISH
X-ORIGINAL-URL:https://www.sde-asiapacific.com
X-WR-CALDESC:Events for SDE Asia Pacific
REFRESH-INTERVAL;VALUE=DURATION:PT1H
X-Robots-Tag:noindex
X-PUBLISHED-TTL:PT1H
BEGIN:VTIMEZONE
TZID:UTC
BEGIN:STANDARD
TZOFFSETFROM:+0000
TZOFFSETTO:+0000
TZNAME:UTC
DTSTART:20250101T000000
END:STANDARD
END:VTIMEZONE
BEGIN:VEVENT
DTSTART;VALUE=DATE:20251015
DTEND;VALUE=DATE:20251016
DTSTAMP:20260420T080817
CREATED:20220525T230217Z
LAST-MODIFIED:20241017T084849Z
UID:10000019-1760486400-1760572799@www.sde-asiapacific.com
SUMMARY:Reg 5031 Mitsubishi Triton Insurance
DESCRIPTION:Expires: 15th October 2025
URL:https://www.sde-asiapacific.com/insurance-renewals/reg-5031-mitsubishi-triton-insurance/
CATEGORIES:Cars and Trucks
END:VEVENT
BEGIN:VEVENT
DTSTART;VALUE=DATE:20251015
DTEND;VALUE=DATE:20251016
DTSTAMP:20260420T080817
CREATED:20220525T230346Z
LAST-MODIFIED:20241017T085004Z
UID:10000020-1760486400-1760572799@www.sde-asiapacific.com
SUMMARY:Reg 5031 Mitsubishi Triton Compulsory Insurance (Por Ror Bor)
DESCRIPTION:Expires: 15th October 2025
URL:https://www.sde-asiapacific.com/insurance-renewals/reg-5031-mitsubishi-triton-compulsory-insurance-por-ror-bor/
CATEGORIES:Cars and Trucks
END:VEVENT
END:VCALENDAR