BEGIN:VCALENDAR
VERSION:2.0
PRODID:-//SDE Asia Pacific - ECPv6.9.1//NONSGML v1.0//EN
CALSCALE:GREGORIAN
METHOD:PUBLISH
X-ORIGINAL-URL:https://www.sde-asiapacific.com
X-WR-CALDESC:Events for SDE Asia Pacific
REFRESH-INTERVAL;VALUE=DURATION:PT1H
X-Robots-Tag:noindex
X-PUBLISHED-TTL:PT1H
BEGIN:VTIMEZONE
TZID:UTC
BEGIN:STANDARD
TZOFFSETFROM:+0000
TZOFFSETTO:+0000
TZNAME:UTC
DTSTART:20250101T000000
END:STANDARD
END:VTIMEZONE
BEGIN:VEVENT
DTSTART;VALUE=DATE:20250904
DTEND;VALUE=DATE:20250905
DTSTAMP:20260420T100402
CREATED:20220525T225846Z
LAST-MODIFIED:20240927T014844Z
UID:10000018-1756944000-1757030399@www.sde-asiapacific.com
SUMMARY:Reg 4753 Ford Everest Car Tax
DESCRIPTION:Expires: 4th September 2025
URL:https://www.sde-asiapacific.com/insurance-renewals/reg-4753-ford-everest-car-tax/
CATEGORIES:Cars and Trucks
END:VEVENT
END:VCALENDAR