BEGIN:VCALENDAR
VERSION:2.0
PRODID:-//SDE Asia Pacific - ECPv6.9.1//NONSGML v1.0//EN
CALSCALE:GREGORIAN
METHOD:PUBLISH
X-ORIGINAL-URL:https://www.sde-asiapacific.com
X-WR-CALDESC:Events for SDE Asia Pacific
REFRESH-INTERVAL;VALUE=DURATION:PT1H
X-Robots-Tag:noindex
X-PUBLISHED-TTL:PT1H
BEGIN:VTIMEZONE
TZID:Asia/Bangkok
BEGIN:STANDARD
TZOFFSETFROM:+0700
TZOFFSETTO:+0700
TZNAME:+07
DTSTART:20250101T000000
END:STANDARD
END:VTIMEZONE
BEGIN:VEVENT
DTSTART;VALUE=DATE:20250512
DTEND;VALUE=DATE:20250513
DTSTAMP:20260420T183020
CREATED:20230706T054518Z
LAST-MODIFIED:20240509T105853Z
UID:10000051-1747008000-1747094399@www.sde-asiapacific.com
SUMMARY:Travel Accident Insurance PSWP
DESCRIPTION:Expires 12 May 2025
URL:https://www.sde-asiapacific.com/insurance-renewals/travel-accident-insurance-pswp/
CATEGORIES:Liability
END:VEVENT
END:VCALENDAR